Workbook

Sheet Como usar
A1: Folha de pacotes
A3: 1. Em Alunos, escreva cada aluno uma vez, com o encarregado de educação e um contacto.
A4: 2. Em Pacotes, registe cada pacote vendido, sempre no fim da lista: o aluno, a data da compra, quantas aulas tem e o preço.
A5: 3. Em Aulas, depois de cada aula, escreva a data e o aluno. A aula conta no pacote mais recente desse aluno comprado até essa data.
A6: 4. Em Pagamentos, registe cada pagamento recebido: a data, o aluno, o valor e a forma de pagamento. Também conta no pacote mais recente do aluno.
A7: 5. Em Pacotes, veja as aulas que faltam e o que está em falta. Quando restam 2 aulas ou menos, a linha fica amarela: é altura de avisar a família. Quando o pacote acaba, fica vermelha.
A8: 6. As colunas cinzentas calculam-se sozinhas: não escreva nelas. As linhas em itálico são exemplos; apague-as quando começar.

Sheet Alunos
A1: Aluno | B1: Encarregado de educação | C1: Contacto | D1: Notas
A2: Ana Ribeiro | B2: Marta Ribeiro | C2: marta.ribeiro@example.com
A3: Tiago Fernandes | B3: Paulo Fernandes | C3: paulo.fernandes@example.com

Sheet Pacotes
A1: Nº | B1: Aluno | C1: Data da compra | D1: Aulas no pacote | E1: Preço | F1: Aulas dadas | G1: Aulas que faltam | H1: Aviso | I1: Pago | J1: Em falta
A2: =IF(B2="","",ROW()-1) -> 1 | B2: Ana Ribeiro | C2: 46272 | D2: 10 | E2: 150 | F2: =IF(B2="","",COUNTIF('Aulas'!$C$2:$C$1001,A2)) -> 8 | G2: =IF(OR(B2="",D2=""),"",D2-F2) -> 2 | H2: =IF(G2="","",IF(G2<=0,"Pacote terminado",IF(G2<=2,"Restam 2 ou menos",""))) -> Restam 2 ou menos | I2: =IF(B2="","",SUMIF('Pagamentos'!$D$2:$D$501,A2,'Pagamentos'!$C$2:$C$501)) -> 150 | J2: =IF(OR(B2="",E2=""),"",E2-I2) -> 0
A3: =IF(B3="","",ROW()-1) -> 2 | B3: Tiago Fernandes | C3: 46279 | D3: 5 | E3: 80 | F3: =IF(B3="","",COUNTIF('Aulas'!$C$2:$C$1001,A3)) -> 2 | G3: =IF(OR(B3="",D3=""),"",D3-F3) -> 3 | H3: =IF(G3="","",IF(G3<=0,"Pacote terminado",IF(G3<=2,"Restam 2 ou menos",""))) | I3: =IF(B3="","",SUMIF('Pagamentos'!$D$2:$D$501,A3,'Pagamentos'!$C$2:$C$501)) -> 40 | J3: =IF(OR(B3="",E3=""),"",E3-I3) -> 40
A4: =IF(B4="","",ROW()-1) | F4: =IF(B4="","",COUNTIF('Aulas'!$C$2:$C$1001,A4)) | G4: =IF(OR(B4="",D4=""),"",D4-F4) | H4: =IF(G4="","",IF(G4<=0,"Pacote terminado",IF(G4<=2,"Restam 2 ou menos",""))) | I4: =IF(B4="","",SUMIF('Pagamentos'!$D$2:$D$501,A4,'Pagamentos'!$C$2:$C$501)) | J4: =IF(OR(B4="",E4=""),"",E4-I4)
A5: =IF(B5="","",ROW()-1) | F5: =IF(B5="","",COUNTIF('Aulas'!$C$2:$C$1001,A5)) | G5: =IF(OR(B5="",D5=""),"",D5-F5) | H5: =IF(G5="","",IF(G5<=0,"Pacote terminado",IF(G5<=2,"Restam 2 ou menos",""))) | I5: =IF(B5="","",SUMIF('Pagamentos'!$D$2:$D$501,A5,'Pagamentos'!$C$2:$C$501)) | J5: =IF(OR(B5="",E5=""),"",E5-I5)
A6: =IF(B6="","",ROW()-1) | F6: =IF(B6="","",COUNTIF('Aulas'!$C$2:$C$1001,A6)) | G6: =IF(OR(B6="",D6=""),"",D6-F6) | H6: =IF(G6="","",IF(G6<=0,"Pacote terminado",IF(G6<=2,"Restam 2 ou menos",""))) | I6: =IF(B6="","",SUMIF('Pagamentos'!$D$2:$D$501,A6,'Pagamentos'!$C$2:$C$501)) | J6: =IF(OR(B6="",E6=""),"",E6-I6)
A7: =IF(B7="","",ROW()-1) | F7: =IF(B7="","",COUNTIF('Aulas'!$C$2:$C$1001,A7)) | G7: =IF(OR(B7="",D7=""),"",D7-F7) | H7: =IF(G7="","",IF(G7<=0,"Pacote terminado",IF(G7<=2,"Restam 2 ou menos",""))) | I7: =IF(B7="","",SUMIF('Pagamentos'!$D$2:$D$501,A7,'Pagamentos'!$C$2:$C$501)) | J7: =IF(OR(B7="",E7=""),"",E7-I7)
A8: =IF(B8="","",ROW()-1) | F8: =IF(B8="","",COUNTIF('Aulas'!$C$2:$C$1001,A8)) | G8: =IF(OR(B8="",D8=""),"",D8-F8) | H8: =IF(G8="","",IF(G8<=0,"Pacote terminado",IF(G8<=2,"Restam 2 ou menos",""))) | I8: =IF(B8="","",SUMIF('Pagamentos'!$D$2:$D$501,A8,'Pagamentos'!$C$2:$C$501)) | J8: =IF(OR(B8="",E8=""),"",E8-I8)
A9: =IF(B9="","",ROW()-1) | F9: =IF(B9="","",COUNTIF('Aulas'!$C$2:$C$1001,A9)) | G9: =IF(OR(B9="",D9=""),"",D9-F9) | H9: =IF(G9="","",IF(G9<=0,"Pacote terminado",IF(G9<=2,"Restam 2 ou menos",""))) | I9: =IF(B9="","",SUMIF('Pagamentos'!$D$2:$D$501,A9,'Pagamentos'!$C$2:$C$501)) | J9: =IF(OR(B9="",E9=""),"",E9-I9)
A10: =IF(B10="","",ROW()-1) | F10: =IF(B10="","",COUNTIF('Aulas'!$C$2:$C$1001,A10)) | G10: =IF(OR(B10="",D10=""),"",D10-F10) | H10: =IF(G10="","",IF(G10<=0,"Pacote terminado",IF(G10<=2,"Restam 2 ou menos",""))) | I10: =IF(B10="","",SUMIF('Pagamentos'!$D$2:$D$501,A10,'Pagamentos'!$C$2:$C$501)) | J10: =IF(OR(B10="",E10=""),"",E10-I10)
A11: =IF(B11="","",ROW()-1) | F11: =IF(B11="","",COUNTIF('Aulas'!$C$2:$C$1001,A11)) | G11: =IF(OR(B11="",D11=""),"",D11-F11) | H11: =IF(G11="","",IF(G11<=0,"Pacote terminado",IF(G11<=2,"Restam 2 ou menos",""))) | I11: =IF(B11="","",SUMIF('Pagamentos'!$D$2:$D$501,A11,'Pagamentos'!$C$2:$C$501)) | J11: =IF(OR(B11="",E11=""),"",E11-I11)
A12: =IF(B12="","",ROW()-1) | F12: =IF(B12="","",COUNTIF('Aulas'!$C$2:$C$1001,A12)) | G12: =IF(OR(B12="",D12=""),"",D12-F12) | H12: =IF(G12="","",IF(G12<=0,"Pacote terminado",IF(G12<=2,"Restam 2 ou menos",""))) | I12: =IF(B12="","",SUMIF('Pagamentos'!$D$2:$D$501,A12,'Pagamentos'!$C$2:$C$501)) | J12: =IF(OR(B12="",E12=""),"",E12-I12)
A13: =IF(B13="","",ROW()-1) | F13: =IF(B13="","",COUNTIF('Aulas'!$C$2:$C$1001,A13)) | G13: =IF(OR(B13="",D13=""),"",D13-F13) | H13: =IF(G13="","",IF(G13<=0,"Pacote terminado",IF(G13<=2,"Restam 2 ou menos",""))) | I13: =IF(B13="","",SUMIF('Pagamentos'!$D$2:$D$501,A13,'Pagamentos'!$C$2:$C$501)) | J13: =IF(OR(B13="",E13=""),"",E13-I13)
A14: =IF(B14="","",ROW()-1) | F14: =IF(B14="","",COUNTIF('Aulas'!$C$2:$C$1001,A14)) | G14: =IF(OR(B14="",D14=""),"",D14-F14) | H14: =IF(G14="","",IF(G14<=0,"Pacote terminado",IF(G14<=2,"Restam 2 ou menos",""))) | I14: =IF(B14="","",SUMIF('Pagamentos'!$D$2:$D$501,A14,'Pagamentos'!$C$2:$C$501)) | J14: =IF(OR(B14="",E14=""),"",E14-I14)
A15: =IF(B15="","",ROW()-1) | F15: =IF(B15="","",COUNTIF('Aulas'!$C$2:$C$1001,A15)) | G15: =IF(OR(B15="",D15=""),"",D15-F15) | H15: =IF(G15="","",IF(G15<=0,"Pacote terminado",IF(G15<=2,"Restam 2 ou menos",""))) | I15: =IF(B15="","",SUMIF('Pagamentos'!$D$2:$D$501,A15,'Pagamentos'!$C$2:$C$501)) | J15: =IF(OR(B15="",E15=""),"",E15-I15)
... A201: =IF(B201="","",ROW()-1) | F201: =IF(B201="","",COUNTIF('Aulas'!$C$2:$C$1001,A201)) | G201: =IF(OR(B201="",D201=""),"",D201-F201) | H201: =IF(G201="","",IF(G201<=0,"Pacote terminado",IF(G201<=2,"Restam 2 ou menos",""))) | I201: =IF(B201="","",SUMIF('Pagamentos'!$D$2:$D$501,A201,'Pagamentos'!$C$2:$C$501)) | J201: =IF(OR(B201="",E201=""),"",E201-I201)

Sheet Aulas
A1: Data | B1: Aluno | C1: Pacote nº | D1: Notas
A2: 46273 | B2: Ana Ribeiro | C2: =IF(OR(A2="",B2=""),"",IF(SUMPRODUCT(MAX(('Pacotes'!$B$2:$B$201=B2)*('Pacotes'!$C$2:$C$201<=A2)*(ROW('Pacotes'!$B$2:$B$201)-1)))=0,"(sem pacote)",SUMPRODUCT(MAX(('Pacotes'!$B$2:$B$201=B2)*('Pacotes'!$C$2:$C$201<=A2)*(ROW('Pacotes'!$B$2:$B$201)-1))))) -> 1
A3: 46280 | B3: Ana Ribeiro | C3: =IF(OR(A3="",B3=""),"",IF(SUMPRODUCT(MAX(('Pacotes'!$B$2:$B$201=B3)*('Pacotes'!$C$2:$C$201<=A3)*(ROW('Pacotes'!$B$2:$B$201)-1)))=0,"(sem pacote)",SUMPRODUCT(MAX(('Pacotes'!$B$2:$B$201=B3)*('Pacotes'!$C$2:$C$201<=A3)*(ROW('Pacotes'!$B$2:$B$201)-1))))) -> 1
A4: 46282 | B4: Tiago Fernandes | C4: =IF(OR(A4="",B4=""),"",IF(SUMPRODUCT(MAX(('Pacotes'!$B$2:$B$201=B4)*('Pacotes'!$C$2:$C$201<=A4)*(ROW('Pacotes'!$B$2:$B$201)-1)))=0,"(sem pacote)",SUMPRODUCT(MAX(('Pacotes'!$B$2:$B$201=B4)*('Pacotes'!$C$2:$C$201<=A4)*(ROW('Pacotes'!$B$2:$B$201)-1))))) -> 2
A5: 46287 | B5: Ana Ribeiro | C5: =IF(OR(A5="",B5=""),"",IF(SUMPRODUCT(MAX(('Pacotes'!$B$2:$B$201=B5)*('Pacotes'!$C$2:$C$201<=A5)*(ROW('Pacotes'!$B$2:$B$201)-1)))=0,"(sem pacote)",SUMPRODUCT(MAX(('Pacotes'!$B$2:$B$201=B5)*('Pacotes'!$C$2:$C$201<=A5)*(ROW('Pacotes'!$B$2:$B$201)-1))))) -> 1
A6: 46289 | B6: Tiago Fernandes | C6: =IF(OR(A6="",B6=""),"",IF(SUMPRODUCT(MAX(('Pacotes'!$B$2:$B$201=B6)*('Pacotes'!$C$2:$C$201<=A6)*(ROW('Pacotes'!$B$2:$B$201)-1)))=0,"(sem pacote)",SUMPRODUCT(MAX(('Pacotes'!$B$2:$B$201=B6)*('Pacotes'!$C$2:$C$201<=A6)*(ROW('Pacotes'!$B$2:$B$201)-1))))) -> 2
A7: 46294 | B7: Ana Ribeiro | C7: =IF(OR(A7="",B7=""),"",IF(SUMPRODUCT(MAX(('Pacotes'!$B$2:$B$201=B7)*('Pacotes'!$C$2:$C$201<=A7)*(ROW('Pacotes'!$B$2:$B$201)-1)))=0,"(sem pacote)",SUMPRODUCT(MAX(('Pacotes'!$B$2:$B$201=B7)*('Pacotes'!$C$2:$C$201<=A7)*(ROW('Pacotes'!$B$2:$B$201)-1))))) -> 1
A8: 46301 | B8: Ana Ribeiro | C8: =IF(OR(A8="",B8=""),"",IF(SUMPRODUCT(MAX(('Pacotes'!$B$2:$B$201=B8)*('Pacotes'!$C$2:$C$201<=A8)*(ROW('Pacotes'!$B$2:$B$201)-1)))=0,"(sem pacote)",SUMPRODUCT(MAX(('Pacotes'!$B$2:$B$201=B8)*('Pacotes'!$C$2:$C$201<=A8)*(ROW('Pacotes'!$B$2:$B$201)-1))))) -> 1
A9: 46308 | B9: Ana Ribeiro | C9: =IF(OR(A9="",B9=""),"",IF(SUMPRODUCT(MAX(('Pacotes'!$B$2:$B$201=B9)*('Pacotes'!$C$2:$C$201<=A9)*(ROW('Pacotes'!$B$2:$B$201)-1)))=0,"(sem pacote)",SUMPRODUCT(MAX(('Pacotes'!$B$2:$B$201=B9)*('Pacotes'!$C$2:$C$201<=A9)*(ROW('Pacotes'!$B$2:$B$201)-1))))) -> 1
A10: 46315 | B10: Ana Ribeiro | C10: =IF(OR(A10="",B10=""),"",IF(SUMPRODUCT(MAX(('Pacotes'!$B$2:$B$201=B10)*('Pacotes'!$C$2:$C$201<=A10)*(ROW('Pacotes'!$B$2:$B$201)-1)))=0,"(sem pacote)",SUMPRODUCT(MAX(('Pacotes'!$B$2:$B$201=B10)*('Pacotes'!$C$2:$C$201<=A10)*(ROW('Pacotes'!$B$2:$B$201)-1))))) -> 1
A11: 46322 | B11: Ana Ribeiro | C11: =IF(OR(A11="",B11=""),"",IF(SUMPRODUCT(MAX(('Pacotes'!$B$2:$B$201=B11)*('Pacotes'!$C$2:$C$201<=A11)*(ROW('Pacotes'!$B$2:$B$201)-1)))=0,"(sem pacote)",SUMPRODUCT(MAX(('Pacotes'!$B$2:$B$201=B11)*('Pacotes'!$C$2:$C$201<=A11)*(ROW('Pacotes'!$B$2:$B$201)-1))))) -> 1
C12: =IF(OR(A12="",B12=""),"",IF(SUMPRODUCT(MAX(('Pacotes'!$B$2:$B$201=B12)*('Pacotes'!$C$2:$C$201<=A12)*(ROW('Pacotes'!$B$2:$B$201)-1)))=0,"(sem pacote)",SUMPRODUCT(MAX(('Pacotes'!$B$2:$B$201=B12)*('Pacotes'!$C$2:$C$201<=A12)*(ROW('Pacotes'!$B$2:$B$201)-1)))))
C13: =IF(OR(A13="",B13=""),"",IF(SUMPRODUCT(MAX(('Pacotes'!$B$2:$B$201=B13)*('Pacotes'!$C$2:$C$201<=A13)*(ROW('Pacotes'!$B$2:$B$201)-1)))=0,"(sem pacote)",SUMPRODUCT(MAX(('Pacotes'!$B$2:$B$201=B13)*('Pacotes'!$C$2:$C$201<=A13)*(ROW('Pacotes'!$B$2:$B$201)-1)))))
C14: =IF(OR(A14="",B14=""),"",IF(SUMPRODUCT(MAX(('Pacotes'!$B$2:$B$201=B14)*('Pacotes'!$C$2:$C$201<=A14)*(ROW('Pacotes'!$B$2:$B$201)-1)))=0,"(sem pacote)",SUMPRODUCT(MAX(('Pacotes'!$B$2:$B$201=B14)*('Pacotes'!$C$2:$C$201<=A14)*(ROW('Pacotes'!$B$2:$B$201)-1)))))
C15: =IF(OR(A15="",B15=""),"",IF(SUMPRODUCT(MAX(('Pacotes'!$B$2:$B$201=B15)*('Pacotes'!$C$2:$C$201<=A15)*(ROW('Pacotes'!$B$2:$B$201)-1)))=0,"(sem pacote)",SUMPRODUCT(MAX(('Pacotes'!$B$2:$B$201=B15)*('Pacotes'!$C$2:$C$201<=A15)*(ROW('Pacotes'!$B$2:$B$201)-1)))))
C16: =IF(OR(A16="",B16=""),"",IF(SUMPRODUCT(MAX(('Pacotes'!$B$2:$B$201=B16)*('Pacotes'!$C$2:$C$201<=A16)*(ROW('Pacotes'!$B$2:$B$201)-1)))=0,"(sem pacote)",SUMPRODUCT(MAX(('Pacotes'!$B$2:$B$201=B16)*('Pacotes'!$C$2:$C$201<=A16)*(ROW('Pacotes'!$B$2:$B$201)-1)))))
C17: =IF(OR(A17="",B17=""),"",IF(SUMPRODUCT(MAX(('Pacotes'!$B$2:$B$201=B17)*('Pacotes'!$C$2:$C$201<=A17)*(ROW('Pacotes'!$B$2:$B$201)-1)))=0,"(sem pacote)",SUMPRODUCT(MAX(('Pacotes'!$B$2:$B$201=B17)*('Pacotes'!$C$2:$C$201<=A17)*(ROW('Pacotes'!$B$2:$B$201)-1)))))
C18: =IF(OR(A18="",B18=""),"",IF(SUMPRODUCT(MAX(('Pacotes'!$B$2:$B$201=B18)*('Pacotes'!$C$2:$C$201<=A18)*(ROW('Pacotes'!$B$2:$B$201)-1)))=0,"(sem pacote)",SUMPRODUCT(MAX(('Pacotes'!$B$2:$B$201=B18)*('Pacotes'!$C$2:$C$201<=A18)*(ROW('Pacotes'!$B$2:$B$201)-1)))))
C19: =IF(OR(A19="",B19=""),"",IF(SUMPRODUCT(MAX(('Pacotes'!$B$2:$B$201=B19)*('Pacotes'!$C$2:$C$201<=A19)*(ROW('Pacotes'!$B$2:$B$201)-1)))=0,"(sem pacote)",SUMPRODUCT(MAX(('Pacotes'!$B$2:$B$201=B19)*('Pacotes'!$C$2:$C$201<=A19)*(ROW('Pacotes'!$B$2:$B$201)-1)))))
C20: =IF(OR(A20="",B20=""),"",IF(SUMPRODUCT(MAX(('Pacotes'!$B$2:$B$201=B20)*('Pacotes'!$C$2:$C$201<=A20)*(ROW('Pacotes'!$B$2:$B$201)-1)))=0,"(sem pacote)",SUMPRODUCT(MAX(('Pacotes'!$B$2:$B$201=B20)*('Pacotes'!$C$2:$C$201<=A20)*(ROW('Pacotes'!$B$2:$B$201)-1)))))
C21: =IF(OR(A21="",B21=""),"",IF(SUMPRODUCT(MAX(('Pacotes'!$B$2:$B$201=B21)*('Pacotes'!$C$2:$C$201<=A21)*(ROW('Pacotes'!$B$2:$B$201)-1)))=0,"(sem pacote)",SUMPRODUCT(MAX(('Pacotes'!$B$2:$B$201=B21)*('Pacotes'!$C$2:$C$201<=A21)*(ROW('Pacotes'!$B$2:$B$201)-1)))))
C22: =IF(OR(A22="",B22=""),"",IF(SUMPRODUCT(MAX(('Pacotes'!$B$2:$B$201=B22)*('Pacotes'!$C$2:$C$201<=A22)*(ROW('Pacotes'!$B$2:$B$201)-1)))=0,"(sem pacote)",SUMPRODUCT(MAX(('Pacotes'!$B$2:$B$201=B22)*('Pacotes'!$C$2:$C$201<=A22)*(ROW('Pacotes'!$B$2:$B$201)-1)))))
C23: =IF(OR(A23="",B23=""),"",IF(SUMPRODUCT(MAX(('Pacotes'!$B$2:$B$201=B23)*('Pacotes'!$C$2:$C$201<=A23)*(ROW('Pacotes'!$B$2:$B$201)-1)))=0,"(sem pacote)",SUMPRODUCT(MAX(('Pacotes'!$B$2:$B$201=B23)*('Pacotes'!$C$2:$C$201<=A23)*(ROW('Pacotes'!$B$2:$B$201)-1)))))
... C1001: =IF(OR(A1001="",B1001=""),"",IF(SUMPRODUCT(MAX(('Pacotes'!$B$2:$B$201=B1001)*('Pacotes'!$C$2:$C$201<=A1001)*(ROW('Pacotes'!$B$2:$B$201)-1)))=0,"(sem pacote)",SUMPRODUCT(MAX(('Pacotes'!$B$2:$B$201=B1001)*('Pacotes'!$C$2:$C$201<=A1001)*(ROW('Pacotes'!$B$2:$B$201)-1)))))

Sheet Pagamentos
A1: Data | B1: Aluno | C1: Valor | D1: Pacote nº | E1: Forma de pagamento
A2: 46272 | B2: Ana Ribeiro | C2: 150 | D2: =IF(OR(A2="",B2=""),"",IF(SUMPRODUCT(MAX(('Pacotes'!$B$2:$B$201=B2)*('Pacotes'!$C$2:$C$201<=A2)*(ROW('Pacotes'!$B$2:$B$201)-1)))=0,"(sem pacote)",SUMPRODUCT(MAX(('Pacotes'!$B$2:$B$201=B2)*('Pacotes'!$C$2:$C$201<=A2)*(ROW('Pacotes'!$B$2:$B$201)-1))))) -> 1 | E2: MB WAY
A3: 46279 | B3: Tiago Fernandes | C3: 40 | D3: =IF(OR(A3="",B3=""),"",IF(SUMPRODUCT(MAX(('Pacotes'!$B$2:$B$201=B3)*('Pacotes'!$C$2:$C$201<=A3)*(ROW('Pacotes'!$B$2:$B$201)-1)))=0,"(sem pacote)",SUMPRODUCT(MAX(('Pacotes'!$B$2:$B$201=B3)*('Pacotes'!$C$2:$C$201<=A3)*(ROW('Pacotes'!$B$2:$B$201)-1))))) -> 2 | E3: Numerário
D4: =IF(OR(A4="",B4=""),"",IF(SUMPRODUCT(MAX(('Pacotes'!$B$2:$B$201=B4)*('Pacotes'!$C$2:$C$201<=A4)*(ROW('Pacotes'!$B$2:$B$201)-1)))=0,"(sem pacote)",SUMPRODUCT(MAX(('Pacotes'!$B$2:$B$201=B4)*('Pacotes'!$C$2:$C$201<=A4)*(ROW('Pacotes'!$B$2:$B$201)-1)))))
D5: =IF(OR(A5="",B5=""),"",IF(SUMPRODUCT(MAX(('Pacotes'!$B$2:$B$201=B5)*('Pacotes'!$C$2:$C$201<=A5)*(ROW('Pacotes'!$B$2:$B$201)-1)))=0,"(sem pacote)",SUMPRODUCT(MAX(('Pacotes'!$B$2:$B$201=B5)*('Pacotes'!$C$2:$C$201<=A5)*(ROW('Pacotes'!$B$2:$B$201)-1)))))
D6: =IF(OR(A6="",B6=""),"",IF(SUMPRODUCT(MAX(('Pacotes'!$B$2:$B$201=B6)*('Pacotes'!$C$2:$C$201<=A6)*(ROW('Pacotes'!$B$2:$B$201)-1)))=0,"(sem pacote)",SUMPRODUCT(MAX(('Pacotes'!$B$2:$B$201=B6)*('Pacotes'!$C$2:$C$201<=A6)*(ROW('Pacotes'!$B$2:$B$201)-1)))))
D7: =IF(OR(A7="",B7=""),"",IF(SUMPRODUCT(MAX(('Pacotes'!$B$2:$B$201=B7)*('Pacotes'!$C$2:$C$201<=A7)*(ROW('Pacotes'!$B$2:$B$201)-1)))=0,"(sem pacote)",SUMPRODUCT(MAX(('Pacotes'!$B$2:$B$201=B7)*('Pacotes'!$C$2:$C$201<=A7)*(ROW('Pacotes'!$B$2:$B$201)-1)))))
D8: =IF(OR(A8="",B8=""),"",IF(SUMPRODUCT(MAX(('Pacotes'!$B$2:$B$201=B8)*('Pacotes'!$C$2:$C$201<=A8)*(ROW('Pacotes'!$B$2:$B$201)-1)))=0,"(sem pacote)",SUMPRODUCT(MAX(('Pacotes'!$B$2:$B$201=B8)*('Pacotes'!$C$2:$C$201<=A8)*(ROW('Pacotes'!$B$2:$B$201)-1)))))
D9: =IF(OR(A9="",B9=""),"",IF(SUMPRODUCT(MAX(('Pacotes'!$B$2:$B$201=B9)*('Pacotes'!$C$2:$C$201<=A9)*(ROW('Pacotes'!$B$2:$B$201)-1)))=0,"(sem pacote)",SUMPRODUCT(MAX(('Pacotes'!$B$2:$B$201=B9)*('Pacotes'!$C$2:$C$201<=A9)*(ROW('Pacotes'!$B$2:$B$201)-1)))))
D10: =IF(OR(A10="",B10=""),"",IF(SUMPRODUCT(MAX(('Pacotes'!$B$2:$B$201=B10)*('Pacotes'!$C$2:$C$201<=A10)*(ROW('Pacotes'!$B$2:$B$201)-1)))=0,"(sem pacote)",SUMPRODUCT(MAX(('Pacotes'!$B$2:$B$201=B10)*('Pacotes'!$C$2:$C$201<=A10)*(ROW('Pacotes'!$B$2:$B$201)-1)))))
D11: =IF(OR(A11="",B11=""),"",IF(SUMPRODUCT(MAX(('Pacotes'!$B$2:$B$201=B11)*('Pacotes'!$C$2:$C$201<=A11)*(ROW('Pacotes'!$B$2:$B$201)-1)))=0,"(sem pacote)",SUMPRODUCT(MAX(('Pacotes'!$B$2:$B$201=B11)*('Pacotes'!$C$2:$C$201<=A11)*(ROW('Pacotes'!$B$2:$B$201)-1)))))
D12: =IF(OR(A12="",B12=""),"",IF(SUMPRODUCT(MAX(('Pacotes'!$B$2:$B$201=B12)*('Pacotes'!$C$2:$C$201<=A12)*(ROW('Pacotes'!$B$2:$B$201)-1)))=0,"(sem pacote)",SUMPRODUCT(MAX(('Pacotes'!$B$2:$B$201=B12)*('Pacotes'!$C$2:$C$201<=A12)*(ROW('Pacotes'!$B$2:$B$201)-1)))))
D13: =IF(OR(A13="",B13=""),"",IF(SUMPRODUCT(MAX(('Pacotes'!$B$2:$B$201=B13)*('Pacotes'!$C$2:$C$201<=A13)*(ROW('Pacotes'!$B$2:$B$201)-1)))=0,"(sem pacote)",SUMPRODUCT(MAX(('Pacotes'!$B$2:$B$201=B13)*('Pacotes'!$C$2:$C$201<=A13)*(ROW('Pacotes'!$B$2:$B$201)-1)))))
D14: =IF(OR(A14="",B14=""),"",IF(SUMPRODUCT(MAX(('Pacotes'!$B$2:$B$201=B14)*('Pacotes'!$C$2:$C$201<=A14)*(ROW('Pacotes'!$B$2:$B$201)-1)))=0,"(sem pacote)",SUMPRODUCT(MAX(('Pacotes'!$B$2:$B$201=B14)*('Pacotes'!$C$2:$C$201<=A14)*(ROW('Pacotes'!$B$2:$B$201)-1)))))
D15: =IF(OR(A15="",B15=""),"",IF(SUMPRODUCT(MAX(('Pacotes'!$B$2:$B$201=B15)*('Pacotes'!$C$2:$C$201<=A15)*(ROW('Pacotes'!$B$2:$B$201)-1)))=0,"(sem pacote)",SUMPRODUCT(MAX(('Pacotes'!$B$2:$B$201=B15)*('Pacotes'!$C$2:$C$201<=A15)*(ROW('Pacotes'!$B$2:$B$201)-1)))))
... D501: =IF(OR(A501="",B501=""),"",IF(SUMPRODUCT(MAX(('Pacotes'!$B$2:$B$201=B501)*('Pacotes'!$C$2:$C$201<=A501)*(ROW('Pacotes'!$B$2:$B$201)-1)))=0,"(sem pacote)",SUMPRODUCT(MAX(('Pacotes'!$B$2:$B$201=B501)*('Pacotes'!$C$2:$C$201<=A501)*(ROW('Pacotes'!$B$2:$B$201)-1)))))

Sheet ExplicaHub
A1: Esta folha conta os pacotes que lhe escreve. O ExplicaHub conta-os sozinho: cada aula dada gasta um crédito do pacote, e um aviso chega quando estão a acabar.
A2: =HYPERLINK("https://explicahub.com/","E junta as aulas regulares, quem deve, os planos mensais e os emails às famílias, num só sítio. Veja como em explicahub.com.") -> E junta as aulas regulares, quem deve, os planos mensais e os emails às famílias, num só sítio. Veja como em explicahub.com.
